BEGIN:VCALENDAR
VERSION:2.0
PRODID:-//The Food Chain - ECPv6.15.20//NONSGML v1.0//EN
CALSCALE:GREGORIAN
METHOD:PUBLISH
X-ORIGINAL-URL:https://www.foodchain.org.uk
X-WR-CALDESC:Events for The Food Chain
REFRESH-INTERVAL;VALUE=DURATION:PT1H
X-Robots-Tag:noindex
X-PUBLISHED-TTL:PT1H
BEGIN:VTIMEZONE
TZID:Europe/London
BEGIN:DAYLIGHT
TZOFFSETFROM:+0000
TZOFFSETTO:+0100
TZNAME:BST
DTSTART:20240331T010000
END:DAYLIGHT
BEGIN:STANDARD
TZOFFSETFROM:+0100
TZOFFSETTO:+0000
TZNAME:GMT
DTSTART:20241027T010000
END:STANDARD
BEGIN:DAYLIGHT
TZOFFSETFROM:+0000
TZOFFSETTO:+0100
TZNAME:BST
DTSTART:20250330T010000
END:DAYLIGHT
BEGIN:STANDARD
TZOFFSETFROM:+0100
TZOFFSETTO:+0000
TZNAME:GMT
DTSTART:20251026T010000
END:STANDARD
BEGIN:DAYLIGHT
TZOFFSETFROM:+0000
TZOFFSETTO:+0100
TZNAME:BST
DTSTART:20260329T010000
END:DAYLIGHT
BEGIN:STANDARD
TZOFFSETFROM:+0100
TZOFFSETTO:+0000
TZNAME:GMT
DTSTART:20261025T010000
END:STANDARD
END:VTIMEZONE
BEGIN:VEVENT
DTSTART;TZID=Europe/London:20250713T090000
DTEND;TZID=Europe/London:20250713T120000
DTSTAMP:20260421T012721
CREATED:20250506T112412Z
LAST-MODIFIED:20250506T112412Z
UID:12766-1752397200-1752408000@www.foodchain.org.uk
SUMMARY:London 10k
DESCRIPTION:The Saucony London 10K is taking place on 13th July 2025 and The Food Chain runners would love your support! \nThe run takes runners past some of London’s most iconic landmarks\, including Big Ben and Trafalgar Square. We will have 10 runners in this year’s race\, so if you’re free on the day why note come along and cheer them on! Email Helen on fundraising@foodchain.org.uk to find out where our cheering point will be. \nYou can also sponsor our runners – watch this space for their fundraising pages!
URL:https://www.foodchain.org.uk/event/london-10k/
LOCATION:Central London
ATTACH;FMTTYPE=image/jpeg:https://www.foodchain.org.uk/wp-content/uploads/2025/05/Luke-White-Apple-Suit-scaled.jpg
END:VEVENT
END:VCALENDAR