BEGIN:VCALENDAR
VERSION:2.0
PRODID:-//The Food Chain - ECPv6.15.20//NONSGML v1.0//EN
CALSCALE:GREGORIAN
METHOD:PUBLISH
X-WR-CALNAME:The Food Chain
X-ORIGINAL-URL:https://www.foodchain.org.uk
X-WR-CALDESC:Events for The Food Chain
REFRESH-INTERVAL;VALUE=DURATION:PT1H
X-Robots-Tag:noindex
X-PUBLISHED-TTL:PT1H
BEGIN:VTIMEZONE
TZID:UTC
BEGIN:STANDARD
TZOFFSETFROM:+0000
TZOFFSETTO:+0000
TZNAME:UTC
DTSTART:20240101T000000
END:STANDARD
END:VTIMEZONE
BEGIN:VEVENT
DTSTART;VALUE=DATE:20251122
DTEND;VALUE=DATE:20251123
DTSTAMP:20260420T154650
CREATED:20190924T105533Z
LAST-MODIFIED:20250903T115219Z
UID:5986-1763769600-1763855999@www.foodchain.org.uk
SUMMARY:Red Run
DESCRIPTION:The annual World AIDS Day RED RUN in Victoria Park\, London will be back on Saturday 22nd November. A 10k/5k charity fun run or walk\, all ages and abilities are welcome. The Red Run is a great community event celebrating solidarity in the HIV sector\, welcoming friends old and new\, and raising awareness of support organisations across the country. \nRegistration open now! Sign up here and choose The Food Chain as your charity: https://www.redrun.org.uk/
URL:https://www.foodchain.org.uk/event/red-run/
LOCATION:Victoria Park\, Grove Road\, London\, E3 5TB\, United Kingdom
ATTACH;FMTTYPE=image/jpeg:https://www.foodchain.org.uk/wp-content/uploads/2019/09/Anna-Sam-Insta-1.jpg
END:VEVENT
END:VCALENDAR