BEGIN:VCALENDAR
VERSION:2.0
PRODID:-//The Food Chain - ECPv6.15.20//NONSGML v1.0//EN
CALSCALE:GREGORIAN
METHOD:PUBLISH
X-ORIGINAL-URL:https://www.foodchain.org.uk
X-WR-CALDESC:Events for The Food Chain
REFRESH-INTERVAL;VALUE=DURATION:PT1H
X-Robots-Tag:noindex
X-PUBLISHED-TTL:PT1H
BEGIN:VTIMEZONE
TZID:Europe/London
BEGIN:DAYLIGHT
TZOFFSETFROM:+0000
TZOFFSETTO:+0100
TZNAME:BST
DTSTART:20240331T010000
END:DAYLIGHT
BEGIN:STANDARD
TZOFFSETFROM:+0100
TZOFFSETTO:+0000
TZNAME:GMT
DTSTART:20241027T010000
END:STANDARD
BEGIN:DAYLIGHT
TZOFFSETFROM:+0000
TZOFFSETTO:+0100
TZNAME:BST
DTSTART:20250330T010000
END:DAYLIGHT
BEGIN:STANDARD
TZOFFSETFROM:+0100
TZOFFSETTO:+0000
TZNAME:GMT
DTSTART:20251026T010000
END:STANDARD
BEGIN:DAYLIGHT
TZOFFSETFROM:+0000
TZOFFSETTO:+0100
TZNAME:BST
DTSTART:20260329T010000
END:DAYLIGHT
BEGIN:STANDARD
TZOFFSETFROM:+0100
TZOFFSETTO:+0000
TZNAME:GMT
DTSTART:20261025T010000
END:STANDARD
END:VTIMEZONE
BEGIN:VEVENT
DTSTART;TZID=Europe/London:20251216T190000
DTEND;TZID=Europe/London:20251216T210000
DTSTAMP:20260420T141254
CREATED:20210915T150423Z
LAST-MODIFIED:20251107T155752Z
UID:10712-1765911600-1765918800@www.foodchain.org.uk
SUMMARY:The Food Chain Carol Service
DESCRIPTION:Get it in your diaries early! \nYou are warmly invited to join us for our annual Carol Service at St Paul’s Church\, Covent Garden on Tuesday 16th December 2025. An evening of celebration and reflection with guest readings and carols sung by the celebrated choir of St Paul’s. Mulled wine\, mince pies and cinnamon stars\, donated by artisan bakers\, Konditor\, will be available as usual on the night for a donation. \nImportant Update for 2025: \nThis year\, we are introducing a ticketed system for the Carol Service with a small cost attached. We have been very fortunate up to now to be able to keep the carol service free to all\, however it is a reflection of the times that we live in that funds are in short supply and costs of upkeep for the church are increasing. In order to keep our carol service going in such a lovely location and continue our wonderful partnership with St Paul’s church well in to the future\, from this year we will be charging £5 entry fee. Out of that fee: 15% (or 75p) per ticket goes towards supporting the church\, and the remaining £4.25 will go to The Food Chain. We understand that £5 is a big jump from previous years\, so we will hold some tickets in reserve and make these available for free for anyone who is unable to cover the entry fee. Please contact fundraising@foodchain.org.uk \nPlease book early as there will be no entry without a ticket: https://actorschurch.ticketsolve.com/ticketbooth/shows/873616576 \nAlways a beautiful occasion to celebrate the Christmas season with our extended family\, The Food Chain looks forward to welcoming you.
URL:https://www.foodchain.org.uk/event/the-food-chain-carol-service/
LOCATION:St Paul’s Church Covent Garden\, Bedford St\, London\, WC2E9ED\, United Kingdom
ATTACH;FMTTYPE=image/png:https://www.foodchain.org.uk/wp-content/uploads/2021/09/2025-Carol-Service-Invitation.png
END:VEVENT
END:VCALENDAR