BEGIN:VCALENDAR
VERSION:2.0
PRODID:-//The Food Chain - ECPv6.15.20//NONSGML v1.0//EN
CALSCALE:GREGORIAN
METHOD:PUBLISH
X-WR-CALNAME:The Food Chain
X-ORIGINAL-URL:https://www.foodchain.org.uk
X-WR-CALDESC:Events for The Food Chain
REFRESH-INTERVAL;VALUE=DURATION:PT1H
X-Robots-Tag:noindex
X-PUBLISHED-TTL:PT1H
BEGIN:VTIMEZONE
TZID:Europe/London
BEGIN:DAYLIGHT
TZOFFSETFROM:+0000
TZOFFSETTO:+0100
TZNAME:BST
DTSTART:20230326T010000
END:DAYLIGHT
BEGIN:STANDARD
TZOFFSETFROM:+0100
TZOFFSETTO:+0000
TZNAME:GMT
DTSTART:20231029T010000
END:STANDARD
BEGIN:DAYLIGHT
TZOFFSETFROM:+0000
TZOFFSETTO:+0100
TZNAME:BST
DTSTART:20240331T010000
END:DAYLIGHT
BEGIN:STANDARD
TZOFFSETFROM:+0100
TZOFFSETTO:+0000
TZNAME:GMT
DTSTART:20241027T010000
END:STANDARD
BEGIN:DAYLIGHT
TZOFFSETFROM:+0000
TZOFFSETTO:+0100
TZNAME:BST
DTSTART:20250330T010000
END:DAYLIGHT
BEGIN:STANDARD
TZOFFSETFROM:+0100
TZOFFSETTO:+0000
TZNAME:GMT
DTSTART:20251026T010000
END:STANDARD
END:VTIMEZONE
BEGIN:VEVENT
DTSTART;TZID=Europe/London:20240926T190000
DTEND;TZID=Europe/London:20240926T230000
DTSTAMP:20260419T190248
CREATED:20230615T134353Z
LAST-MODIFIED:20240809T150912Z
UID:12215-1727377200-1727391600@www.foodchain.org.uk
SUMMARY:Fundraising quiz
DESCRIPTION:Calling all quiz-lovers! \nAfter the success of May’s event\, Nigel Burch will be running another fundraising quiz night for The Food Chain this September. Theme to be announced soon! \nTables are for a maximum of 6 at £10 per head – you can book as a team or join a table as an individual or small group. Food and drinks will be available for a donation. Email Peter on kitchen@foodchain.org.uk to book\, and be quick to secure your place!
URL:https://www.foodchain.org.uk/event/fundraising-quiz/
LOCATION:Positive East\, 159 Mile End Road\, London E1 4AQ\, 159 Mile End Road\, London\, E1 4AQ\, United Kingdom
ATTACH;FMTTYPE=image/jpeg:https://www.foodchain.org.uk/wp-content/uploads/2023/06/Quiz-night-photo.jpg
END:VEVENT
BEGIN:VEVENT
DTSTART;TZID=Europe/London:20240913T190000
DTEND;TZID=Europe/London:20240913T230000
DTSTAMP:20260419T190248
CREATED:20220610T083646Z
LAST-MODIFIED:20240809T151847Z
UID:11785-1726254000-1726268400@www.foodchain.org.uk
SUMMARY:British Asian Fundraising Dinner
DESCRIPTION:This September we will be holding another great dinner experience from our kitchen at Positive East’s dining room. These events are a wonderful opportunity for us to come together and celebrate two of the things that make The Food Chain a success: our friends\, and our food! \nThe menu arrangement and Chef for the night is our very own volunteer Lead Cook Jason. He’s used to cooking for our Service Users at Eating Together\, so it’ll be great to have him flexing his Chef-ing muscles for a different audience. \nTickets are £40 per person and there will be wine\, beer and soft drinks available on the night in return for a donation. To book please email kitchen@foodchain.org.uk \nHope to see you there!
URL:https://www.foodchain.org.uk/event/clerkenwell-festival/
LOCATION:Positive East\, 159 Mile End Road\, London E1 4AQ\, 159 Mile End Road\, London\, E1 4AQ\, United Kingdom
ATTACH;FMTTYPE=image/png:https://www.foodchain.org.uk/wp-content/uploads/2022/06/British-Asian-Menu.png
END:VEVENT
END:VCALENDAR